BEGIN:VCALENDAR
VERSION:2.0
PRODID:-//Tukios.com/
BEGIN:VEVENT
UID:f14cfc49-363d-4992-a9e4-4a7a8c1f1298@www.jmwhitefuneralhome.com
DTSTAMP:20260426T003438Z
DTSTART:20260429T150000Z
DTEND:20260429T160000Z
SUMMARY:Funeral Service
DESCRIPTION:
URL:https://www.jmwhitefuneralhome.com/obituaries/joseph-frazier
LOCATION: 205 West Winder Street  Henderson NC 27536
GEO:36.3263187;-78.4058967
END:VEVENT
END:VCALENDAR